
    BEGIN:VCALENDAR
VERSION:2.0
PRODID:-//TYPO3/NONSGML News system (news)//EN
BEGIN:VEVENT
UID:news-9487@www.chu-montpellier.fr
DTSTAMP:20260421T181004
DTSTART:20260604T090000
DTEND:20260604T170000
SUMMARY:Journée hybride gratuite grand public "Dissociation traumatique : quand l’esprit se coupe de ce qu’il vit. Quelle place chez les victimes et auteurs de violences sexuelles ?"
CATEGORIES:Evénement grand public, Webinaire
DESCRIPTION:Le 4 juin 2026, l’équipe du CRIAVS-LR du CHU de 
 Montpellier organise une journée hybride grand&hellip;
END:VEVENT
END:VCALENDAR

